BEGIN:VCALENDAR
VERSION:2.0
PRODID:-//Lisa Wahlandt - ECPv6.15.18//NONSGML v1.0//EN
CALSCALE:GREGORIAN
METHOD:PUBLISH
X-WR-CALNAME:Lisa Wahlandt
X-ORIGINAL-URL:https://lisa-wahlandt.com
X-WR-CALDESC:Veranstaltungen für Lisa Wahlandt
REFRESH-INTERVAL;VALUE=DURATION:PT1H
X-Robots-Tag:noindex
X-PUBLISHED-TTL:PT1H
BEGIN:VTIMEZONE
TZID:Europe/Berlin
BEGIN:DAYLIGHT
TZOFFSETFROM:+0100
TZOFFSETTO:+0200
TZNAME:CEST
DTSTART:20250330T010000
END:DAYLIGHT
BEGIN:STANDARD
TZOFFSETFROM:+0200
TZOFFSETTO:+0100
TZNAME:CET
DTSTART:20251026T010000
END:STANDARD
BEGIN:DAYLIGHT
TZOFFSETFROM:+0100
TZOFFSETTO:+0200
TZNAME:CEST
DTSTART:20260329T010000
END:DAYLIGHT
BEGIN:STANDARD
TZOFFSETFROM:+0200
TZOFFSETTO:+0100
TZNAME:CET
DTSTART:20261025T010000
END:STANDARD
BEGIN:DAYLIGHT
TZOFFSETFROM:+0100
TZOFFSETTO:+0200
TZNAME:CEST
DTSTART:20270328T010000
END:DAYLIGHT
BEGIN:STANDARD
TZOFFSETFROM:+0200
TZOFFSETTO:+0100
TZNAME:CET
DTSTART:20271031T010000
END:STANDARD
END:VTIMEZONE
BEGIN:VEVENT
DTSTART;TZID=Europe/Berlin:20261203T190000
DTEND;TZID=Europe/Berlin:20261203T200000
DTSTAMP:20260424T153145
CREATED:20260220T150549Z
LAST-MODIFIED:20260220T150549Z
UID:2749-1796324400-1796328000@lisa-wahlandt.com
SUMMARY:Lisa Wahlandt Trio "Heiliger BimBam"
DESCRIPTION:
URL:https://lisa-wahlandt.com/event/lisa-wahlandt-trio-heiliger-bimbam-6/
LOCATION:Kult A8
END:VEVENT
BEGIN:VEVENT
DTSTART;TZID=Europe/Berlin:20261205T200000
DTEND;TZID=Europe/Berlin:20261205T223000
DTSTAMP:20260424T153145
CREATED:20260220T151144Z
LAST-MODIFIED:20260220T151144Z
UID:2752-1796500800-1796509800@lisa-wahlandt.com
SUMMARY:Lisa Wahlandt & Band "Home for Christmas"
DESCRIPTION:Lisa Wahlandt\, Andrea Hermenau\, Sven Faller\, Manfred Mildenberger
URL:https://lisa-wahlandt.com/event/lisa-wahlandt-band-home-for-christmas-3/
LOCATION:Max Frank Saal\, Mitterweg 1\, Leiblfing\, 94339
END:VEVENT
BEGIN:VEVENT
DTSTART;TZID=Europe/Berlin:20261209T193000
DTEND;TZID=Europe/Berlin:20261209T220000
DTSTAMP:20260424T153145
CREATED:20260220T151459Z
LAST-MODIFIED:20260220T151459Z
UID:2756-1796844600-1796853600@lisa-wahlandt.com
SUMMARY:Special Night before Christmas
DESCRIPTION:Same procedure as ev’ry year…\nSo   w-o-n-d-e-r-f-u-l
URL:https://lisa-wahlandt.com/event/special-night-before-christmas-5/
LOCATION:Stadttheater Amberg\, Zeughausstraße 1a\, Amberg\, 92224\, Deutschland
END:VEVENT
BEGIN:VEVENT
DTSTART;TZID=Europe/Berlin:20261210T193000
DTEND;TZID=Europe/Berlin:20261210T200000
DTSTAMP:20260424T153145
CREATED:20260220T151622Z
LAST-MODIFIED:20260220T151806Z
UID:2758-1796931000-1796932800@lisa-wahlandt.com
SUMMARY:Special Night before Christmas
DESCRIPTION:Same procedure as ev’ry year…\nSo   w-o-n-d-e-r-f-u-l
URL:https://lisa-wahlandt.com/event/special-night-before-christmas-6/
LOCATION:Stadttheater Amberg\, Zeughausstraße 1a\, Amberg\, 92224\, Deutschland
END:VEVENT
BEGIN:VEVENT
DTSTART;TZID=Europe/Berlin:20261212T193000
DTEND;TZID=Europe/Berlin:20261212T220000
DTSTAMP:20260424T153145
CREATED:20260220T152001Z
LAST-MODIFIED:20260220T152001Z
UID:2760-1797103800-1797112800@lisa-wahlandt.com
SUMMARY:Special Night before Christmas
DESCRIPTION:Same procedure as ev’ry year…\nSo   w-o-n-d-e-r-f-u-l
URL:https://lisa-wahlandt.com/event/special-night-before-christmas-7/
LOCATION:Markmillersaal Straubing\, Äussere Passauer Strasse 60\, Straubing\, 94315
END:VEVENT
BEGIN:VEVENT
DTSTART;TZID=Europe/Berlin:20261218T193000
DTEND;TZID=Europe/Berlin:20261218T220000
DTSTAMP:20260424T153145
CREATED:20260220T152145Z
LAST-MODIFIED:20260220T152224Z
UID:2762-1797622200-1797631200@lisa-wahlandt.com
SUMMARY:Special Night before Christmas
DESCRIPTION:Same procedure as ev’ry year…\nSo   w-o-n-d-e-r-f-u-l
URL:https://lisa-wahlandt.com/event/special-night-before-christmas-8/
LOCATION:Audimax der Uni Regensburg\, Albertus-Magnus-Str. 2\,\, Regensburg\, 93053\, Deutschland
END:VEVENT
END:VCALENDAR