BEGIN:VCALENDAR
VERSION:2.0
PRODID:-//Lisa Wahlandt - ECPv6.15.18//NONSGML v1.0//EN
CALSCALE:GREGORIAN
METHOD:PUBLISH
X-WR-CALNAME:Lisa Wahlandt
X-ORIGINAL-URL:https://lisa-wahlandt.com
X-WR-CALDESC:Veranstaltungen für Lisa Wahlandt
REFRESH-INTERVAL;VALUE=DURATION:PT1H
X-Robots-Tag:noindex
X-PUBLISHED-TTL:PT1H
BEGIN:VTIMEZONE
TZID:Europe/Berlin
BEGIN:DAYLIGHT
TZOFFSETFROM:+0100
TZOFFSETTO:+0200
TZNAME:CEST
DTSTART:20250330T010000
END:DAYLIGHT
BEGIN:STANDARD
TZOFFSETFROM:+0200
TZOFFSETTO:+0100
TZNAME:CET
DTSTART:20251026T010000
END:STANDARD
BEGIN:DAYLIGHT
TZOFFSETFROM:+0100
TZOFFSETTO:+0200
TZNAME:CEST
DTSTART:20260329T010000
END:DAYLIGHT
BEGIN:STANDARD
TZOFFSETFROM:+0200
TZOFFSETTO:+0100
TZNAME:CET
DTSTART:20261025T010000
END:STANDARD
BEGIN:DAYLIGHT
TZOFFSETFROM:+0100
TZOFFSETTO:+0200
TZNAME:CEST
DTSTART:20270328T010000
END:DAYLIGHT
BEGIN:STANDARD
TZOFFSETFROM:+0200
TZOFFSETTO:+0100
TZNAME:CET
DTSTART:20271031T010000
END:STANDARD
END:VTIMEZONE
BEGIN:VEVENT
DTSTART;TZID=Europe/Berlin:20261105T193000
DTEND;TZID=Europe/Berlin:20261105T213000
DTSTAMP:20260424T132328
CREATED:20260220T143300Z
LAST-MODIFIED:20260220T143300Z
UID:2734-1793907000-1793914200@lisa-wahlandt.com
SUMMARY:Lisa Wahlandt "Zwei Damen und ein Kontrabass"
DESCRIPTION:KULTURWOCHE
URL:https://lisa-wahlandt.com/event/lisa-wahlandt-zwei-damen-und-ein-kontrabass-5/
LOCATION:Grundschule Otterfing\, Schulstraße 10\, Otterfing\, 83624
END:VEVENT
BEGIN:VEVENT
DTSTART;TZID=Europe/Berlin:20261115T193000
DTEND;TZID=Europe/Berlin:20261115T220000
DTSTAMP:20260424T132328
CREATED:20260220T143847Z
LAST-MODIFIED:20260220T205309Z
UID:2740-1794771000-1794780000@lisa-wahlandt.com
SUMMARY:Lisa Wahlandt meets Mulo Francel & fabulous Band
DESCRIPTION:Lisa Wahlandt\, Mulo Francel\, Stephan Weiser\, Didi Lowka & Robert Kainar
URL:https://lisa-wahlandt.com/event/lisa-wahlandt-meets-mulo-francel-fabulous-band/
LOCATION:Auers Livebühne\, Rosenheimer Str. 8\, Neubeuern\, 83115
ORGANIZER;CN="Crossgammy GbR":MAILTO:info@crossgammy.de
END:VEVENT
BEGIN:VEVENT
DTSTART;TZID=Europe/Berlin:20261126T200000
DTEND;TZID=Europe/Berlin:20261126T223000
DTSTAMP:20260424T132328
CREATED:20260220T144438Z
LAST-MODIFIED:20260220T144438Z
UID:2743-1795723200-1795732200@lisa-wahlandt.com
SUMMARY:Wahlandt  Faller  Morello
DESCRIPTION:LIKE A BRIDGE\nCD-Präsentation
URL:https://lisa-wahlandt.com/event/wahlandt-faller-morello/
LOCATION:Jazzclub Regensburg\, Bertoldstr. 9\,\, Regensburg\, 93047\, Deutschland
END:VEVENT
BEGIN:VEVENT
DTSTART;TZID=Europe/Berlin:20261128T200000
DTEND;TZID=Europe/Berlin:20261128T220000
DTSTAMP:20260424T132328
CREATED:20260220T150338Z
LAST-MODIFIED:20260220T150338Z
UID:2745-1795896000-1795903200@lisa-wahlandt.com
SUMMARY:Wahlandt  Faller  Morello
DESCRIPTION:LIKE A BRIDGE\nCD-Präsentation
URL:https://lisa-wahlandt.com/event/wahlandt-faller-morello-2/
LOCATION:Historische Druckerei\, Luitpoldplatz 4\, Sulzbach-Rosenberg\, 92237\, Germany
END:VEVENT
BEGIN:VEVENT
DTSTART;TZID=Europe/Berlin:20261128T200000
DTEND;TZID=Europe/Berlin:20261128T220000
DTSTAMP:20260424T132328
CREATED:20260220T180313Z
LAST-MODIFIED:20260220T181000Z
UID:2766-1795896000-1795903200@lisa-wahlandt.com
SUMMARY:Wahlandt  Morello  Faller
DESCRIPTION:LIKE A BRIDGE\nCD-Präsentation
URL:https://lisa-wahlandt.com/event/wahlandt-morello-faller-2/
LOCATION:Historische Druckerei\, Luitpoldplatz 4\, Sulzbach-Rosenberg\, 92237\, Germany
END:VEVENT
END:VCALENDAR