BEGIN:VCALENDAR
VERSION:2.0
PRODID:-//Lisa Wahlandt - ECPv6.15.18//NONSGML v1.0//EN
CALSCALE:GREGORIAN
METHOD:PUBLISH
X-ORIGINAL-URL:https://lisa-wahlandt.com
X-WR-CALDESC:Veranstaltungen für Lisa Wahlandt
REFRESH-INTERVAL;VALUE=DURATION:PT1H
X-Robots-Tag:noindex
X-PUBLISHED-TTL:PT1H
BEGIN:VTIMEZONE
TZID:Europe/Berlin
BEGIN:DAYLIGHT
TZOFFSETFROM:+0100
TZOFFSETTO:+0200
TZNAME:CEST
DTSTART:20250330T010000
END:DAYLIGHT
BEGIN:STANDARD
TZOFFSETFROM:+0200
TZOFFSETTO:+0100
TZNAME:CET
DTSTART:20251026T010000
END:STANDARD
BEGIN:DAYLIGHT
TZOFFSETFROM:+0100
TZOFFSETTO:+0200
TZNAME:CEST
DTSTART:20260329T010000
END:DAYLIGHT
BEGIN:STANDARD
TZOFFSETFROM:+0200
TZOFFSETTO:+0100
TZNAME:CET
DTSTART:20261025T010000
END:STANDARD
BEGIN:DAYLIGHT
TZOFFSETFROM:+0100
TZOFFSETTO:+0200
TZNAME:CEST
DTSTART:20270328T010000
END:DAYLIGHT
BEGIN:STANDARD
TZOFFSETFROM:+0200
TZOFFSETTO:+0100
TZNAME:CET
DTSTART:20271031T010000
END:STANDARD
END:VTIMEZONE
BEGIN:VEVENT
DTSTART;TZID=Europe/Berlin:20260704T190000
DTEND;TZID=Europe/Berlin:20260704T213000
DTSTAMP:20260424T071534
CREATED:20260220T142048Z
LAST-MODIFIED:20260220T142150Z
UID:2732-1783191600-1783200600@lisa-wahlandt.com
SUMMARY:Lisa Wahlandt "Zwei Damen und ein Kontrabass"
DESCRIPTION:SOMMERKONZERT – OPEN AIR im Garten\nBEI REGEN – Pasinger Fabrik
URL:https://lisa-wahlandt.com/event/lisa-wahlandt-zwei-damen-und-ein-kontrabass-4/
LOCATION:Ebenböckhaus\, Ebenböckstr. 11\, München\, Bayern\, 81245\, Germany
END:VEVENT
BEGIN:VEVENT
DTSTART;TZID=Europe/Berlin:20260729T193000
DTEND;TZID=Europe/Berlin:20260729T223000
DTSTAMP:20260424T071534
CREATED:20260211T120410Z
LAST-MODIFIED:20260211T120945Z
UID:2686-1785353400-1785364200@lisa-wahlandt.com
SUMMARY:Palazzo "Ladies Night"
DESCRIPTION:Lisa Wahlandt meets Steffi Denk\, die Divettes und special guest\nplus die Regensburger All Star Band 🙂 \n 
URL:https://lisa-wahlandt.com/event/palazzo-ladies-night/
LOCATION:Regensburg Palazzo-Festival\, Haidplatz 8\, Regensburg\, 93047
END:VEVENT
END:VCALENDAR