BEGIN:VCALENDAR
VERSION:2.0
PRODID:-//Lisa Wahlandt - ECPv6.15.18//NONSGML v1.0//EN
CALSCALE:GREGORIAN
METHOD:PUBLISH
X-WR-CALNAME:Lisa Wahlandt
X-ORIGINAL-URL:https://lisa-wahlandt.com
X-WR-CALDESC:Veranstaltungen für Lisa Wahlandt
REFRESH-INTERVAL;VALUE=DURATION:PT1H
X-Robots-Tag:noindex
X-PUBLISHED-TTL:PT1H
BEGIN:VTIMEZONE
TZID:Europe/Berlin
BEGIN:DAYLIGHT
TZOFFSETFROM:+0100
TZOFFSETTO:+0200
TZNAME:CEST
DTSTART:20250330T010000
END:DAYLIGHT
BEGIN:STANDARD
TZOFFSETFROM:+0200
TZOFFSETTO:+0100
TZNAME:CET
DTSTART:20251026T010000
END:STANDARD
BEGIN:DAYLIGHT
TZOFFSETFROM:+0100
TZOFFSETTO:+0200
TZNAME:CEST
DTSTART:20260329T010000
END:DAYLIGHT
BEGIN:STANDARD
TZOFFSETFROM:+0200
TZOFFSETTO:+0100
TZNAME:CET
DTSTART:20261025T010000
END:STANDARD
BEGIN:DAYLIGHT
TZOFFSETFROM:+0100
TZOFFSETTO:+0200
TZNAME:CEST
DTSTART:20270328T010000
END:DAYLIGHT
BEGIN:STANDARD
TZOFFSETFROM:+0200
TZOFFSETTO:+0100
TZNAME:CET
DTSTART:20271031T010000
END:STANDARD
END:VTIMEZONE
BEGIN:VEVENT
DTSTART;TZID=Europe/Berlin:20260508T200000
DTEND;TZID=Europe/Berlin:20260508T223000
DTSTAMP:20260424T035344
CREATED:20260220T134742Z
LAST-MODIFIED:20260220T134742Z
UID:2715-1778270400-1778279400@lisa-wahlandt.com
SUMMARY:Lisa Wahlandt "Zwei Damen und ein Kontrabass"
DESCRIPTION:08. Mai 2026: Lisa Wahlandt Trio
URL:https://lisa-wahlandt.com/event/lisa-wahlandt-zwei-damen-und-ein-kontrabass/
LOCATION:Kulturstadl Reimlingen\, Hauptstraße 11\, Reimlingen\, 86756
END:VEVENT
BEGIN:VEVENT
DTSTART;TZID=Europe/Berlin:20260510T190000
DTEND;TZID=Europe/Berlin:20260510T210000
DTSTAMP:20260424T035344
CREATED:20260220T135631Z
LAST-MODIFIED:20260220T135750Z
UID:2721-1778439600-1778446800@lisa-wahlandt.com
SUMMARY:Lisa Wahlandt "Zwei Damen und ein Kontrabass"
DESCRIPTION:
URL:https://lisa-wahlandt.com/event/lisa-wahlandt-zwei-damen-und-ein-kontrabass-2/
LOCATION:Cham – Langhaussaal des Rathauses\, Marktplatz 2\, Cham\, 93413
END:VEVENT
BEGIN:VEVENT
DTSTART;TZID=Europe/Berlin:20260522T193000
DTEND;TZID=Europe/Berlin:20260522T213000
DTSTAMP:20260424T035344
CREATED:20260220T141406Z
LAST-MODIFIED:20260220T141528Z
UID:2727-1779478200-1779485400@lisa-wahlandt.com
SUMMARY:Lisa Wahlandt "Zwei Damen und ein Kontrabass"
DESCRIPTION:Ich freu mich sehr\, Teil der Veranstaltungsreihe „MUSIK IN BAYERN“ und „SO KLINGT BAYERN“ zu sein! \n 
URL:https://lisa-wahlandt.com/event/lisa-wahlandt-zwei-damen-und-ein-kontrabass-3/
LOCATION:Stadt Freyung\, Rathausplatz 1\, Freyung\, 94078
END:VEVENT
END:VCALENDAR