BEGIN:VCALENDAR
VERSION:2.0
PRODID:-//Lisa Wahlandt - ECPv6.15.18//NONSGML v1.0//EN
CALSCALE:GREGORIAN
METHOD:PUBLISH
X-WR-CALNAME:Lisa Wahlandt
X-ORIGINAL-URL:https://lisa-wahlandt.com
X-WR-CALDESC:Veranstaltungen für Lisa Wahlandt
REFRESH-INTERVAL;VALUE=DURATION:PT1H
X-Robots-Tag:noindex
X-PUBLISHED-TTL:PT1H
BEGIN:VTIMEZONE
TZID:Europe/Berlin
BEGIN:DAYLIGHT
TZOFFSETFROM:+0100
TZOFFSETTO:+0200
TZNAME:CEST
DTSTART:20250330T010000
END:DAYLIGHT
BEGIN:STANDARD
TZOFFSETFROM:+0200
TZOFFSETTO:+0100
TZNAME:CET
DTSTART:20251026T010000
END:STANDARD
BEGIN:DAYLIGHT
TZOFFSETFROM:+0100
TZOFFSETTO:+0200
TZNAME:CEST
DTSTART:20260329T010000
END:DAYLIGHT
BEGIN:STANDARD
TZOFFSETFROM:+0200
TZOFFSETTO:+0100
TZNAME:CET
DTSTART:20261025T010000
END:STANDARD
BEGIN:DAYLIGHT
TZOFFSETFROM:+0100
TZOFFSETTO:+0200
TZNAME:CEST
DTSTART:20270328T010000
END:DAYLIGHT
BEGIN:STANDARD
TZOFFSETFROM:+0200
TZOFFSETTO:+0100
TZNAME:CET
DTSTART:20271031T010000
END:STANDARD
END:VTIMEZONE
BEGIN:VEVENT
DTSTART;TZID=Europe/Berlin:20260208T110000
DTEND;TZID=Europe/Berlin:20260208T130000
DTSTAMP:20260424T052000
CREATED:20250715T192752Z
LAST-MODIFIED:20250715T192855Z
UID:2596-1770548400-1770555600@lisa-wahlandt.com
SUMMARY:Lisa Wahlandt Band
DESCRIPTION:„Seems like yesterday“ ACHTUNG MATINEE!\nmit Jan Eschke\, Sven Faller\, Manfred Mildenberger
URL:https://lisa-wahlandt.com/event/lisa-wahlandt-band-8/
LOCATION:Asam Freising\, Marienplatz 7\, Freising\, 85354
END:VEVENT
END:VCALENDAR